BEGIN:VCALENDAR
VERSION:2.0
PRODID:-//Renegade Saints - ECPv6.15.20//NONSGML v1.0//EN
CALSCALE:GREGORIAN
METHOD:PUBLISH
X-WR-CALNAME:Renegade Saints
X-ORIGINAL-URL:https://renegadesaints.ch
X-WR-CALDESC:Events for Renegade Saints
REFRESH-INTERVAL;VALUE=DURATION:PT1H
X-Robots-Tag:noindex
X-PUBLISHED-TTL:PT1H
BEGIN:VTIMEZONE
TZID:Europe/Zurich
BEGIN:DAYLIGHT
TZOFFSETFROM:+0100
TZOFFSETTO:+0200
TZNAME:CEST
DTSTART:20230326T010000
END:DAYLIGHT
BEGIN:STANDARD
TZOFFSETFROM:+0200
TZOFFSETTO:+0100
TZNAME:CET
DTSTART:20231029T010000
END:STANDARD
BEGIN:DAYLIGHT
TZOFFSETFROM:+0100
TZOFFSETTO:+0200
TZNAME:CEST
DTSTART:20240331T010000
END:DAYLIGHT
BEGIN:STANDARD
TZOFFSETFROM:+0200
TZOFFSETTO:+0100
TZNAME:CET
DTSTART:20241027T010000
END:STANDARD
BEGIN:DAYLIGHT
TZOFFSETFROM:+0100
TZOFFSETTO:+0200
TZNAME:CEST
DTSTART:20250330T010000
END:DAYLIGHT
BEGIN:STANDARD
TZOFFSETFROM:+0200
TZOFFSETTO:+0100
TZNAME:CET
DTSTART:20251026T010000
END:STANDARD
END:VTIMEZONE
BEGIN:VEVENT
DTSTART;TZID=Europe/Zurich:20241203T190000
DTEND;TZID=Europe/Zurich:20241203T220000
DTSTAMP:20260420T064649
CREATED:20241117T234024Z
LAST-MODIFIED:20241125T135018Z
UID:2051-1733252400-1733263200@renegadesaints.ch
SUMMARY:Improv Comedy Workshop - Deep Dish Improv: Scene Starts
DESCRIPTION:SOLD OUTDue to overwhelming popular demand\, this workshop is completely sold out!The good news! We’ve opened up a second date. Check out the other date here \n\n\n\n\n\n\n\n\nDeep Dish Improv: A Slice of Chicago Improv ComedyGet ready to dig into the hearty\, hilarious world of Chicago-style improv! \n\n\n\nDeep Dish improv is a series of workshops serving up a smorgasbord of the Windy City’s best comedic traditions\, blending fast-paced wit\, character-driven scenes\, and the collaborative brilliance that made Chicago the improv capital of the world. \n\n\n\nThe first workshop in this series: Scene Starts hones in on the art of powerful scene starts. You’ll explore bold choices\, dynamic openings\, and the secrets to setting your scenes up for success from the very first line. \n\n\n\nLed by Sean Koch\, a professional improviser fresh from Chicago with years of experience performing and teaching at Comedy Sportz and The Annoyance Theatre.  \n\n\n\nWhether you’re a seasoned performer or just hungry to learn\, this is your chance to taste the techniques that shape comedy legends. Come for the laughs\, stay for the creativity—Chicago-style\, extra deep!
URL:https://renegadesaints.ch/event/improv-comedy-workshop-deep-dish-improv/
LOCATION:Mr Pickwick pub\, 80 rue de Lausanne\, Genève\, Geneva\, 1202\, Switzerland
CATEGORIES:Classes,Workshops
ATTACH;FMTTYPE=image/png:https://renegadesaints.ch/wp-content/uploads/2024/11/DeepDishImprov-png.webp
ORGANIZER;CN="Renegade Saints":MAILTO:hello@renegadesaints.ch
END:VEVENT
BEGIN:VEVENT
DTSTART;TZID=Europe/Zurich:20241205T190000
DTEND;TZID=Europe/Zurich:20241205T220000
DTSTAMP:20260420T064649
CREATED:20241125T112533Z
LAST-MODIFIED:20241125T135230Z
UID:2092-1733425200-1733436000@renegadesaints.ch
SUMMARY:Improv Comedy Workshop - Deep Dish Improv: Scene Starts - 2
DESCRIPTION:Due to overwhelming popular demand\, we’ve opened a second date for this workshop!Deep Dish Improv: A Slice of Chicago Improv ComedyDeep Dish improv is a series of workshops serving up a smorgasbord of the Windy City’s best improv comedy traditions\, blending fast-paced wit\, character-driven scenes\, and the collaborative brilliance that made Chicago the improv capital of the world. \n\n\n\nThe first workshop in this series: Scene Starts hones in on the art of powerful scene starts. You’ll explore bold choices\, dynamic openings\, and the secrets to setting your scenes up for success from the very first line. \n\n\n\nLed by Sean Koch\, a professional improviser fresh from Chicago with years of experience performing and teaching at Comedy Sportz and The Annoyance Theatre.  \n\n\n\nWhether you’re a seasoned performer or just hungry to learn\, this is your chance to taste the techniques that shape comedy legends. Come for the laughs\, stay for the creativity—Chicago-style\, extra deep!
URL:https://renegadesaints.ch/event/improv-comedy-workshop-deep-dish-improv-2/
LOCATION:La Multatuli\, Rue de Montbrillant 16\, Genève\, Geneva\, 1201\, Switzerland
CATEGORIES:Classes,Workshops
ATTACH;FMTTYPE=image/png:https://renegadesaints.ch/wp-content/uploads/2024/11/DeepDishImprov-png.webp
ORGANIZER;CN="Renegade Saints":MAILTO:hello@renegadesaints.ch
END:VEVENT
BEGIN:VEVENT
DTSTART;TZID=Europe/Zurich:20241210T203000
DTEND;TZID=Europe/Zurich:20241210T220000
DTSTAMP:20260420T064649
CREATED:20241204T223201Z
LAST-MODIFIED:20250109T203137Z
UID:2242-1733862600-1733868000@renegadesaints.ch
SUMMARY:Polyglots – Multilingual improv comedy
DESCRIPTION:Welcome to Polyglots: the multilingual improv comedy show where nobody needs to speak the same language to have fun. \n\n\n\n“Sometimes\, pour bien se marrer\, you don’t need to\, parler la meme langue”. \n\n\n\nIl n’y a no script. Sur scène\, nobody ne sait what will se passer. Vous suggest les themes and la comedy prend vie right sous vos yeux. Watch us make stuff up – en plusieurs langues. You’ll laugh\, nous allons rire\, the world will be a slightly better place\, et le monde deviendra meilleur. \n\n\n\nThe goal of the show is to have fun doing improv together no matter where you come from or what language you speak. This truly international Geneva show brings together stars of the Swiss\, French-speaking and the English-speaking improv scenes for an evening of improvised fun and laughter. \n\n\n\nAvec : Nadim Ahmed\, Paul Berrocal\, Viki Lazar\, Lia Leveillé Mettral\, Daire O’Doherty\, Damian Veiga et quelques invité·es \n\n\n\n@Floky Underground
URL:https://renegadesaints.ch/event/polyglots-improv-comedy-dec24/
LOCATION:Floky Underground\, Rue de Carouge 44\, Genève\, 1205\, Switzerland
CATEGORIES:polyglots,Shows
ATTACH;FMTTYPE=image/jpeg:https://renegadesaints.ch/wp-content/uploads/2024/09/Polyglots-e1727211581916.jpg
END:VEVENT
BEGIN:VEVENT
DTSTART;TZID=Europe/Zurich:20241215T110000
DTEND;TZID=Europe/Zurich:20241215T123000
DTSTAMP:20260420T064649
CREATED:20241211T110314Z
LAST-MODIFIED:20241211T231403Z
UID:2260-1734260400-1734265800@renegadesaints.ch
SUMMARY:Improv- Fun & Games - Drop-in Session
DESCRIPTION:Looking for a bit of non-committal\, no experience necessary improv comedy to spice up your weekend? We’ll be hanging out at Mr. Pickwick on Sunday from 11:00-12:30 – join us for some fun improv games! \n\n\n\nIf you’ve watched ‘Whose Line Is It Anyway’ or one of the Renegade Saints’ improv comedy shows and thought\, ‘Gee\, that looks cool!’\, here’s your chance to join the fun! It’s barmy\, it’s silly\, and it’s guaranteed to make even the grumpiest Glocals-er crack a smile. \n\n\n\nThese sessions are good for anyone\, whether you’re looking to laugh off the stress of the workweek\, get a little more self-confidence\, or work on some performing skills towards that acting career you’ve always wanted. This is a safe environment for all levels of experience where fun is the priority. We will run through some basics of improv\, group warm-ups and exercises with emphasis on fun and collaboration. (We usually stick around for brunch after) \n\n\n\nTotally free and no experience necessary! Please sign up by RSVP here as places are limited 🙂 \n\n\n\nThe Renegade Saints are a many-headed beast from all over the world\, brought together by the vicissitudes of fate in Geneva\, where we started being funny together in 2013. Our first love is short-form improv – playing fully improvised comedy games à la ‘Whose Line is it Anyway?’ \n\n\n\nBlending a range of backgrounds in typically Genevan international community style\, we performed our first show together in 2014\, and we now perform regularly in the city.
URL:https://renegadesaints.ch/event/improv-drop-in-dec24/
LOCATION:Mr Pickwick pub\, 80 rue de Lausanne\, Genève\, Geneva\, 1202\, Switzerland
CATEGORIES:Classes,drop-in
ATTACH;FMTTYPE=image/png:https://renegadesaints.ch/wp-content/uploads/2024/11/FunDropIn2-png.webp
ORGANIZER;CN="Renegade Saints":MAILTO:hello@renegadesaints.ch
END:VEVENT
END:VCALENDAR