BEGIN:VCALENDAR
VERSION:2.0
PRODID:-//Renegade Saints - ECPv6.15.20//NONSGML v1.0//EN
CALSCALE:GREGORIAN
METHOD:PUBLISH
X-ORIGINAL-URL:https://renegadesaints.ch
X-WR-CALDESC:Events for Renegade Saints
REFRESH-INTERVAL;VALUE=DURATION:PT1H
X-Robots-Tag:noindex
X-PUBLISHED-TTL:PT1H
BEGIN:VTIMEZONE
TZID:Europe/Zurich
BEGIN:DAYLIGHT
TZOFFSETFROM:+0100
TZOFFSETTO:+0200
TZNAME:CEST
DTSTART:20240331T010000
END:DAYLIGHT
BEGIN:STANDARD
TZOFFSETFROM:+0200
TZOFFSETTO:+0100
TZNAME:CET
DTSTART:20241027T010000
END:STANDARD
BEGIN:DAYLIGHT
TZOFFSETFROM:+0100
TZOFFSETTO:+0200
TZNAME:CEST
DTSTART:20250330T010000
END:DAYLIGHT
BEGIN:STANDARD
TZOFFSETFROM:+0200
TZOFFSETTO:+0100
TZNAME:CET
DTSTART:20251026T010000
END:STANDARD
BEGIN:DAYLIGHT
TZOFFSETFROM:+0100
TZOFFSETTO:+0200
TZNAME:CEST
DTSTART:20260329T010000
END:DAYLIGHT
BEGIN:STANDARD
TZOFFSETFROM:+0200
TZOFFSETTO:+0100
TZNAME:CET
DTSTART:20261025T010000
END:STANDARD
END:VTIMEZONE
BEGIN:VEVENT
DTSTART;TZID=Europe/Zurich:20250119T110000
DTEND;TZID=Europe/Zurich:20250119T123000
DTSTAMP:20260420T044837
CREATED:20250107T125206Z
LAST-MODIFIED:20250116T095251Z
UID:2328-1737284400-1737289800@renegadesaints.ch
SUMMARY:Improv Comedy- Drop-in Workshop
DESCRIPTION:Looking for a bit of non-committal\, no experience necessary improv comedy to spice up your weekend? We’ll be hanging out at Mr. Pickwick on Sunday from 11:00-12:30 – join us for some fun improv games! \n\n\n\nIf you’ve watched ‘Whose Line Is It Anyway’ or one of the Renegade Saints’ improv comedy shows and thought\, ‘Gee\, that looks cool!’\, here’s your chance to join the fun! It’s barmy\, it’s silly\, and it’s guaranteed to make even the grumpiest Glocals-er crack a smile. \n\n\n\nThese sessions are good for anyone\, whether you’re looking to laugh off the stress of the workweek\, get a little more self-confidence\, or work on some performing skills towards that acting career you’ve always wanted. This is a safe environment for all levels of experience where fun is the priority. We will run through some basics of improv\, group warm-ups and exercises with emphasis on fun and collaboration. (We usually stick around for brunch after) \n\n\n\nTotally free and no experience necessary! Please sign up by RSVP here as places are limited 🙂 \n\n\n\nThe Renegade Saints are a many-headed beast from all over the world\, brought together by the vicissitudes of fate in Geneva\, where we started being funny together in 2013. Our first love is short-form improv – playing fully improvised comedy games à la ‘Whose Line is it Anyway?’ \n\n\n\nBlending a range of backgrounds in typically Genevan international community style\, we performed our first show together in 2014\, and we now perform regularly in the city.
URL:https://renegadesaints.ch/event/improv-comedy-drop-in-workshop-jan25/
LOCATION:Mr Pickwick pub\, 80 rue de Lausanne\, Genève\, Geneva\, 1202\, Switzerland
CATEGORIES:Classes,drop-in
ATTACH;FMTTYPE=image/png:https://renegadesaints.ch/wp-content/uploads/2024/11/FunDropIn2-png.webp
ORGANIZER;CN="Renegade Saints":MAILTO:hello@renegadesaints.ch
END:VEVENT
BEGIN:VEVENT
DTSTART;TZID=Europe/Zurich:20250123T200000
DTEND;TZID=Europe/Zurich:20250123T220000
DTSTAMP:20260420T044837
CREATED:20241216T205119Z
LAST-MODIFIED:20250116T114739Z
UID:2268-1737662400-1737669600@renegadesaints.ch
SUMMARY:Fast. Funny. Made Up - Improv Comedy in English
DESCRIPTION:Fast. Funny. Made Up. is the Renegade Saints‘ flagship show and the longest running improv show in English in Geneva entering legend and folklore for its fun\, fast and hilarious atmosphere. What is it though? Well it’s simple: We make up scenes based on YOUR ideas. You’re the director of the journey all from your bar stool. All you have to do is sit back\, relax\, and enjoy a hilarious\, fast-paced improv show. \n\n\n\nCome on down\, grab a seat (if you can get one)\, grab a beer and join the fun. Be the fun you want to see in the world! \n\n\n\n– Doors open at 19:30 \n\n\n\n\n\n\n\n\n\n\n\n\n\n\n\n\n	\n		\n\n			\n			\n\n							\n					\n						Upcoming Events					\n				\n			\n			\n				\n			\n			\n	\n		\n		\n		\n		\n	\n\n\n	Notice\n							\n					There are no upcoming events.
URL:https://renegadesaints.ch/event/ffmu-improv-comedy-english-230125/
LOCATION:Mr Pickwick pub\, 80 rue de Lausanne\, Genève\, Geneva\, 1202\, Switzerland
CATEGORIES:Fast. Funny. Made Up.,Shows
ATTACH;FMTTYPE=image/jpeg:https://renegadesaints.ch/wp-content/uploads/2024/12/2501-scaled.jpg
END:VEVENT
BEGIN:VEVENT
DTSTART;TZID=Europe/Zurich:20250129T200000
DTEND;TZID=Europe/Zurich:20250129T220000
DTSTAMP:20260420T044837
CREATED:20250107T130239Z
LAST-MODIFIED:20250116T114807Z
UID:2330-1738180800-1738188000@renegadesaints.ch
SUMMARY:Winging It - Improv Comedy in English feat Small Town
DESCRIPTION:Ever wanted to build your own city ? Come and see the foundation of Small Town\, an improvised city where the skyline is built on stage\, where little lives of ordinary citizens become hilarious and grandiose adventures. Spoiler : The city will be erased as we need to leave the stage clean… \n\n\n\n\nPerformers: Thomas Demaurex and Damian Veiga \n\n\n\nWinging It is Geneva’s English-language improv sandbox. New formats\, new troupes\, and new improvisers take the stage. \n\n\n\nEach month\, you get to see a new improv show. It can be familiar performers trying a new format\, or a whole new ensemble debuting. And in the second half\, the Saints will host an improv jam with performers and audience members\, where you get to play familiar short-form games with friendly faces. \n\n\n\nSo come on down if you want to see cool new improv – or if you want to try your hand on the Geneva improv stage yourself. \n\n\n\nIf your group is interested in performing\, shoot an email to hello@renegadesaints.ch with the subject line « Winging It ». \n\n\n\n\n\n\n\n\n\n\n\n\n\n\n	\n		\n\n			\n			\n\n							\n					\n						Upcoming Events					\n				\n			\n			\n				\n			\n			\n	\n		\n		\n		\n		\n	\n\n\n	Notice\n							\n					There are no upcoming events.
URL:https://renegadesaints.ch/event/winging-it-improv-comedy-in-english-feat-small-town/
LOCATION:Floky Underground\, Rue de Carouge 44\, Genève\, 1205\, Switzerland
CATEGORIES:Shows,winging it
ATTACH;FMTTYPE=image/png:https://renegadesaints.ch/wp-content/uploads/2024/11/winging-it-png.webp
ORGANIZER;CN="Renegade Saints":MAILTO:hello@renegadesaints.ch
END:VEVENT
END:VCALENDAR