BEGIN:VCALENDAR
VERSION:2.0
PRODID:-//Renegade Saints - ECPv6.15.20//NONSGML v1.0//EN
CALSCALE:GREGORIAN
METHOD:PUBLISH
X-ORIGINAL-URL:https://renegadesaints.ch
X-WR-CALDESC:Events for Renegade Saints
REFRESH-INTERVAL;VALUE=DURATION:PT1H
X-Robots-Tag:noindex
X-PUBLISHED-TTL:PT1H
BEGIN:VTIMEZONE
TZID:Europe/Zurich
BEGIN:DAYLIGHT
TZOFFSETFROM:+0100
TZOFFSETTO:+0200
TZNAME:CEST
DTSTART:20230326T010000
END:DAYLIGHT
BEGIN:STANDARD
TZOFFSETFROM:+0200
TZOFFSETTO:+0100
TZNAME:CET
DTSTART:20231029T010000
END:STANDARD
BEGIN:DAYLIGHT
TZOFFSETFROM:+0100
TZOFFSETTO:+0200
TZNAME:CEST
DTSTART:20240331T010000
END:DAYLIGHT
BEGIN:STANDARD
TZOFFSETFROM:+0200
TZOFFSETTO:+0100
TZNAME:CET
DTSTART:20241027T010000
END:STANDARD
BEGIN:DAYLIGHT
TZOFFSETFROM:+0100
TZOFFSETTO:+0200
TZNAME:CEST
DTSTART:20250330T010000
END:DAYLIGHT
BEGIN:STANDARD
TZOFFSETFROM:+0200
TZOFFSETTO:+0100
TZNAME:CET
DTSTART:20251026T010000
END:STANDARD
END:VTIMEZONE
BEGIN:VEVENT
DTSTART;TZID=Europe/Zurich:20241203T190000
DTEND;TZID=Europe/Zurich:20241203T220000
DTSTAMP:20260420T083654
CREATED:20241117T234024Z
LAST-MODIFIED:20241125T135018Z
UID:2051-1733252400-1733263200@renegadesaints.ch
SUMMARY:Improv Comedy Workshop - Deep Dish Improv: Scene Starts
DESCRIPTION:SOLD OUTDue to overwhelming popular demand\, this workshop is completely sold out!The good news! We’ve opened up a second date. Check out the other date here \n\n\n\n\n\n\n\n\nDeep Dish Improv: A Slice of Chicago Improv ComedyGet ready to dig into the hearty\, hilarious world of Chicago-style improv! \n\n\n\nDeep Dish improv is a series of workshops serving up a smorgasbord of the Windy City’s best comedic traditions\, blending fast-paced wit\, character-driven scenes\, and the collaborative brilliance that made Chicago the improv capital of the world. \n\n\n\nThe first workshop in this series: Scene Starts hones in on the art of powerful scene starts. You’ll explore bold choices\, dynamic openings\, and the secrets to setting your scenes up for success from the very first line. \n\n\n\nLed by Sean Koch\, a professional improviser fresh from Chicago with years of experience performing and teaching at Comedy Sportz and The Annoyance Theatre.  \n\n\n\nWhether you’re a seasoned performer or just hungry to learn\, this is your chance to taste the techniques that shape comedy legends. Come for the laughs\, stay for the creativity—Chicago-style\, extra deep!
URL:https://renegadesaints.ch/event/improv-comedy-workshop-deep-dish-improv/
LOCATION:Mr Pickwick pub\, 80 rue de Lausanne\, Genève\, Geneva\, 1202\, Switzerland
CATEGORIES:Classes,Workshops
ATTACH;FMTTYPE=image/png:https://renegadesaints.ch/wp-content/uploads/2024/11/DeepDishImprov-png.webp
ORGANIZER;CN="Renegade Saints":MAILTO:hello@renegadesaints.ch
END:VEVENT
END:VCALENDAR