BEGIN:VCALENDAR
VERSION:2.0
PRODID:-//Renegade Saints - ECPv6.15.20//NONSGML v1.0//EN
CALSCALE:GREGORIAN
METHOD:PUBLISH
X-ORIGINAL-URL:https://renegadesaints.ch
X-WR-CALDESC:Events for Renegade Saints
REFRESH-INTERVAL;VALUE=DURATION:PT1H
X-Robots-Tag:noindex
X-PUBLISHED-TTL:PT1H
BEGIN:VTIMEZONE
TZID:Europe/Zurich
BEGIN:DAYLIGHT
TZOFFSETFROM:+0100
TZOFFSETTO:+0200
TZNAME:CEST
DTSTART:20240331T010000
END:DAYLIGHT
BEGIN:STANDARD
TZOFFSETFROM:+0200
TZOFFSETTO:+0100
TZNAME:CET
DTSTART:20241027T010000
END:STANDARD
BEGIN:DAYLIGHT
TZOFFSETFROM:+0100
TZOFFSETTO:+0200
TZNAME:CEST
DTSTART:20250330T010000
END:DAYLIGHT
BEGIN:STANDARD
TZOFFSETFROM:+0200
TZOFFSETTO:+0100
TZNAME:CET
DTSTART:20251026T010000
END:STANDARD
BEGIN:DAYLIGHT
TZOFFSETFROM:+0100
TZOFFSETTO:+0200
TZNAME:CEST
DTSTART:20260329T010000
END:DAYLIGHT
BEGIN:STANDARD
TZOFFSETFROM:+0200
TZOFFSETTO:+0100
TZNAME:CET
DTSTART:20261025T010000
END:STANDARD
END:VTIMEZONE
BEGIN:VEVENT
DTSTART;TZID=Europe/Zurich:20250315T100000
DTEND;TZID=Europe/Zurich:20250315T170000
DTSTAMP:20260420T023722
CREATED:20250307T110155Z
LAST-MODIFIED:20250307T110156Z
UID:2522-1742032800-1742058000@renegadesaints.ch
SUMMARY:Nuances of Care/Love - Improv Workshop with Anděl Sudik
DESCRIPTION:*Is the workshop sold out? Shoot us an email at hello@renegadesaints.ch and we’ll add you to the waitlist.*  \n\n\n\nGuess who’s back?! Join us for an open workshop with Anděl Sudik from Second City in Chicago! You can’t get enough of her\, we can’t get enough of her – Anděl is back for her annual Geneva pilgrimmage to offer her amazing improv wisdom\, side coaching\, and sass. We are pumped to welcome Anděl for four open workshops for the Geneva (and Swiss) improv community – there’s something for all levels!  \n\n\n\n***  \n\n\n\nNuances of Care/Love – Full-Day Workshop (recommended for folks with at least 2 years of experience – RS Level 2 and beyond)  \n\n\n\nIn improv the more we care the easier it is but often when pushed we go to “I love” and “I hate.” But think of all the other incredible relationships and interactions that exist in life in the world\, in art\, in possibilities other than the romantic ones. We will explore characters outside the “norms” and open up the play possibilities. We’ll take the time to connect and create the world we want to see onstage and adjust our default settings. Let’s add depth to our scene work and humanity to our improv. This is a full-day workshop. There will be a lunch break – you can bring your lunch or buy something nearby.  \n\n\n\n***  \n\n\n\nCost: 125 CHF  \n\n\n\nCancellation policy:  \n\n\n\nWe understand that plans change\, but no-shows deprive other folks of a chance to learn and makes it hard for us to pay our amazing trainers. We can offer a 50% refund if you cancel by 11pm on Tuesday\, 11 March. If you cancel your registration after 11pm on Tuesday\, 11 March or do not show up for the workshop\, you will be charged full price (or you may find a replacement who can take your place).  \n\n\n\n***  \n\n\n\nAnděl’s workshops: Two is the Magic Number\, on Friday\, 14 March. More info here.  \n\n\n\nNuances of Care/Love\, on Saturday\, 15 March. More info here.  \n\n\n\nMove Dat Ass\, on Sunday\, 16 March. More info here.  \n\n\n\nShort Form Mechanics Busted\, on Monday\, 17 March. More info here.  \n\n\n\n \n\n\n\n***  \n\n\n\nBIO  \n\n\n\nAnděl Sudik is a director\, improviser\, actor and writer based in L.A. and Chicago known for her explosive energy onstage and in the classroom as well as her experiential teaching style. She considers herself proactively pessimistic and infused all her work – no matter how abstract – with organic honesty and emotional grounding. She was born in Chicago\, raised in California and moved back to Chicago at the tender age of 17 to study comedy and improvisation. She is a faculty member of the Second City Training Center programs; A-E\, Conservatory\, Health and Wellness\, Advanced and Teen and Youth program and has taught her workshops all over the world (The Improv Shop St. Louis\, Monkey Business Institute Madison\, OLLIE Northwestern\, CLIP U of C\, Bucharest\, Dublin\, OKC\, The Improv Retreat\, WI\, The New Movement NOLA\, Iceland\, Bulgaria etc.) As an actor she is an alum of Boom Chicago in Amsterdam\, the Second City Touring Company and performed in the Jeff Award award winning Second City ETC revue “We’re All in this Room Together.” She has also produced countless successful two-man shows as Arch&Anděl (The Public House\, Annoyance\, OoB Festival) and improvisational experiences (Obits a theatrical experience exploring the lives of those that have passed) as well as directed in Chicago at Second City\, iO and the Annoyance. Anděl’s deep well of performance experience and her hands on\, in depth work within the disciplines of long form improvisation\, short form\, sketch and theater make her a thoroughly well-rounded and open minded conduit for art\, creation\, polish and playfulness. She values time efficiency\, and recognizes that the most powerful thing we bring to the table is us. Whatever we are. She does not update her website enough. YesAndel.Com
URL:https://renegadesaints.ch/event/nuances-of-care-love-improv-workshop-with-andel-sudik/
LOCATION:Genève
CATEGORIES:Classes,Workshops
ATTACH;FMTTYPE=image/webp:https://renegadesaints.ch/wp-content/uploads/2025/03/andel-photo-mar-2025-D0LZJB8B.webp
ORGANIZER;CN="Renegade Saints":MAILTO:hello@renegadesaints.ch
END:VEVENT
END:VCALENDAR