BEGIN:VCALENDAR
VERSION:2.0
PRODID:-//Renegade Saints - ECPv6.15.20//NONSGML v1.0//EN
CALSCALE:GREGORIAN
METHOD:PUBLISH
X-WR-CALNAME:Renegade Saints
X-ORIGINAL-URL:https://renegadesaints.ch
X-WR-CALDESC:Events for Renegade Saints
REFRESH-INTERVAL;VALUE=DURATION:PT1H
X-Robots-Tag:noindex
X-PUBLISHED-TTL:PT1H
BEGIN:VTIMEZONE
TZID:Europe/Zurich
BEGIN:DAYLIGHT
TZOFFSETFROM:+0100
TZOFFSETTO:+0200
TZNAME:CEST
DTSTART:20230326T010000
END:DAYLIGHT
BEGIN:STANDARD
TZOFFSETFROM:+0200
TZOFFSETTO:+0100
TZNAME:CET
DTSTART:20231029T010000
END:STANDARD
BEGIN:DAYLIGHT
TZOFFSETFROM:+0100
TZOFFSETTO:+0200
TZNAME:CEST
DTSTART:20240331T010000
END:DAYLIGHT
BEGIN:STANDARD
TZOFFSETFROM:+0200
TZOFFSETTO:+0100
TZNAME:CET
DTSTART:20241027T010000
END:STANDARD
BEGIN:DAYLIGHT
TZOFFSETFROM:+0100
TZOFFSETTO:+0200
TZNAME:CEST
DTSTART:20250330T010000
END:DAYLIGHT
BEGIN:STANDARD
TZOFFSETFROM:+0200
TZOFFSETTO:+0100
TZNAME:CET
DTSTART:20251026T010000
END:STANDARD
END:VTIMEZONE
BEGIN:VEVENT
DTSTART;TZID=Europe/Zurich:20241015T203000
DTEND;TZID=Europe/Zurich:20241015T220000
DTSTAMP:20260420T064511
CREATED:20241010T085236Z
LAST-MODIFIED:20241015T112916Z
UID:1599-1729024200-1729029600@renegadesaints.ch
SUMMARY:Polyglots – Multilingual improv comedy
DESCRIPTION:Welcome to Polyglots: the multilingual improv comedy show where nobody needs to speak the same language to have fun. \n\n\n\n“Sometimes\, pour bien se marrer\, you don’t need to\, parler la meme langue”. \n\n\n\nIl n’y a no script. Sur scène\, nobody ne sait what will se passer. Vous suggest les themes and la comedy prend vie right sous vos yeux. Watch us make stuff up – en plusieurs langues. You’ll laugh\, nous allons rire\, the world will be a slightly better place\, et le monde deviendra meilleur. \n\n\n\nThe goal of the show is to have fun doing improv together no matter where you come from or what language you speak. This truly international Geneva show brings together stars of the Swiss\, French-speaking and the English-speaking improv scenes for an evening of improvised fun and laughter. \n\n\n\nAvec : Nadim Ahmed\, Paul Berrocal\, Viki Lazar\, Lia Leveillé Mettral\, Daire O’Doherty\, Damian Veiga et quelques invité·es \n\n\n\n@Floky Underground
URL:https://renegadesaints.ch/event/polyglots-improv-comedy-2/
LOCATION:Floky Underground\, Rue de Carouge 44\, Genève\, 1205\, Switzerland
CATEGORIES:polyglots,Shows
END:VEVENT
BEGIN:VEVENT
DTSTART;TZID=Europe/Zurich:20241030T200000
DTEND;TZID=Europe/Zurich:20241030T220000
DTSTAMP:20260420T064511
CREATED:20241024T134515Z
LAST-MODIFIED:20241112T150930Z
UID:1655-1730318400-1730325600@renegadesaints.ch
SUMMARY:Winging It - Improv Comedy in English - Unremarkable Fairytales
DESCRIPTION:Renegade Saints present Winging It\, featuring Unremarkable Fairytales \nUnremarkable Fairytales is a magical improv comedy show! A traveling band of world-class actors puts on a never-before-seen fairytale play just for you. Previously performed on the stages of Chicago\, Unremarkable Fairytales comes to you with a distinctly Genevan spin this time! \nPerformers: Sean Koch\, Stephen Kent\, Marzia Marastoni\, Daire O’Doherty\, Sanjay Sanghani\, and John Zimmer \nWinging It is Geneva’s English-language improv sandbox. New formats\, new troupes\, and new improvisers take the stage. Each month\, you get to see a new improv show. It can be familiar performers trying a new format\, or a whole new ensemble debuting. And in the second half\, the Saints will host an improv jam with performers and audience members\, where you get to play familiar short-form games with friendly faces.So come on down if you want to see cool new improv – or if you want to try your hand on the Geneva improv stage yourself. \nIf your group is interested in performing\, shoot an email to hello@renegadesaints.ch with the subject line “Winging It”. \nEntrance fee : CHF 15.- at the gate
URL:https://renegadesaints.ch/event/winging-it-unremarkable-fairytales/
LOCATION:Floky Underground\, Rue de Carouge 44\, Genève\, 1205\, Switzerland
CATEGORIES:Shows,winging it
ATTACH;FMTTYPE=image/jpeg:https://renegadesaints.ch/wp-content/uploads/2024/10/Winging-It-Unremarkable-Fairytales.jpg
ORGANIZER;CN="Renegade Saints":MAILTO:hello@renegadesaints.ch
END:VEVENT
END:VCALENDAR