BEGIN:VCALENDAR
VERSION:2.0
PRODID:-//Renegade Saints - ECPv6.15.20//NONSGML v1.0//EN
CALSCALE:GREGORIAN
METHOD:PUBLISH
X-ORIGINAL-URL:https://renegadesaints.ch
X-WR-CALDESC:Events for Renegade Saints
REFRESH-INTERVAL;VALUE=DURATION:PT1H
X-Robots-Tag:noindex
X-PUBLISHED-TTL:PT1H
BEGIN:VTIMEZONE
TZID:Europe/Zurich
BEGIN:DAYLIGHT
TZOFFSETFROM:+0100
TZOFFSETTO:+0200
TZNAME:CEST
DTSTART:20230326T010000
END:DAYLIGHT
BEGIN:STANDARD
TZOFFSETFROM:+0200
TZOFFSETTO:+0100
TZNAME:CET
DTSTART:20231029T010000
END:STANDARD
BEGIN:DAYLIGHT
TZOFFSETFROM:+0100
TZOFFSETTO:+0200
TZNAME:CEST
DTSTART:20240331T010000
END:DAYLIGHT
BEGIN:STANDARD
TZOFFSETFROM:+0200
TZOFFSETTO:+0100
TZNAME:CET
DTSTART:20241027T010000
END:STANDARD
BEGIN:DAYLIGHT
TZOFFSETFROM:+0100
TZOFFSETTO:+0200
TZNAME:CEST
DTSTART:20250330T010000
END:DAYLIGHT
BEGIN:STANDARD
TZOFFSETFROM:+0200
TZOFFSETTO:+0100
TZNAME:CET
DTSTART:20251026T010000
END:STANDARD
END:VTIMEZONE
BEGIN:VEVENT
DTSTART;TZID=Europe/Zurich:20240926T200000
DTEND;TZID=Europe/Zurich:20240926T220000
DTSTAMP:20260420T100655
CREATED:20240924T123600Z
LAST-MODIFIED:20240925T081013Z
UID:1435-1727380800-1727388000@renegadesaints.ch
SUMMARY:Fast. Funny. Made Up - Improv comedy in English
DESCRIPTION:Fast. Funny. Made Up. is the Renegade Saints‘ flagship show and the longest running improv show in English in Geneva thus entering legend and folklore for its fun\, fast and hilarious atmosphere. What is it though? Well it’s simple: We make up scenes based on YOUR ideas. You’re the director of the journey all from your bar stool. All you have to do is sit back\, relax\, and enjoy a hilarious\, fast-paced improv show. \nWelcome baaaack!! You’re back from the summer break and you’re keen to show that you’re fun\, you’re cultured\, you have things to do in the evenings. Don’t worry\, we’ve got your back: \nCome on down\, grab a seat (if you can get one)\, grab a beer and join the fun. Be the fun you want to see in the world! \n– Thursday 26 Sept\, 20.00 (doors open at 19:30)– Tickets are 15chf \, sold at the door\, cash or TWINT \nBelly laughs guaranteed.
URL:https://renegadesaints.ch/event/improv-comedy-in-english-0924/
LOCATION:Mr Pickwick pub\, 80 rue de Lausanne\, Genève\, Geneva\, 1202\, Switzerland
CATEGORIES:Fast. Funny. Made Up.,Shows
ORGANIZER;CN="Renegade Saints":MAILTO:hello@renegadesaints.ch
END:VEVENT
END:VCALENDAR